BEGIN:VCALENDAR
VERSION:2.0
PRODID:-//CMUS Manuel Quiroga, Pontevedra - ECPv6.15.17//NONSGML v1.0//EN
CALSCALE:GREGORIAN
METHOD:PUBLISH
X-ORIGINAL-URL:https://conservatoriomanuelquiroga.gal/web
X-WR-CALDESC:Events for CMUS Manuel Quiroga, Pontevedra
REFRESH-INTERVAL;VALUE=DURATION:PT1H
X-Robots-Tag:noindex
X-PUBLISHED-TTL:PT1H
BEGIN:VTIMEZONE
TZID:Europe/Madrid
BEGIN:DAYLIGHT
TZOFFSETFROM:+0100
TZOFFSETTO:+0200
TZNAME:CEST
DTSTART:20240331T010000
END:DAYLIGHT
BEGIN:STANDARD
TZOFFSETFROM:+0200
TZOFFSETTO:+0100
TZNAME:CET
DTSTART:20241027T010000
END:STANDARD
BEGIN:DAYLIGHT
TZOFFSETFROM:+0100
TZOFFSETTO:+0200
TZNAME:CEST
DTSTART:20250330T010000
END:DAYLIGHT
BEGIN:STANDARD
TZOFFSETFROM:+0200
TZOFFSETTO:+0100
TZNAME:CET
DTSTART:20251026T010000
END:STANDARD
BEGIN:DAYLIGHT
TZOFFSETFROM:+0100
TZOFFSETTO:+0200
TZNAME:CEST
DTSTART:20260329T010000
END:DAYLIGHT
BEGIN:STANDARD
TZOFFSETFROM:+0200
TZOFFSETTO:+0100
TZNAME:CET
DTSTART:20261025T010000
END:STANDARD
BEGIN:DAYLIGHT
TZOFFSETFROM:+0100
TZOFFSETTO:+0200
TZNAME:CEST
DTSTART:20270328T010000
END:DAYLIGHT
BEGIN:STANDARD
TZOFFSETFROM:+0200
TZOFFSETTO:+0100
TZNAME:CET
DTSTART:20271031T010000
END:STANDARD
END:VTIMEZONE
BEGIN:VEVENT
DTSTART;TZID=Europe/Madrid:20251120T000000
DTEND;TZID=Europe/Madrid:20260120T235900
DTSTAMP:20260419T140134
CREATED:20251120T082903Z
LAST-MODIFIED:20251120T083337Z
UID:5757-1763596800-1768953540@conservatoriomanuelquiroga.gal
SUMMARY:3º Concurso de Música de Cámara: aberto o prazo de inscrición
DESCRIPTION:3º Concurso de Música de Cámara Manuel Quiroga (edición 2026)
URL:https://conservatoriomanuelquiroga.gal/web/evento/251120-3o-concurso-de-musica-de-camara-aberto-o-prazo-de-inscricion/
END:VEVENT
BEGIN:VEVENT
DTSTART;VALUE=DATE:20260119
DTEND;VALUE=DATE:20260124
DTSTAMP:20260419T140134
CREATED:20260119T074830Z
LAST-MODIFIED:20260119T074830Z
UID:5967-1768780800-1769212799@conservatoriomanuelquiroga.gal
SUMMARY:Audicións de Música de cámara e Conxunto
DESCRIPTION:19 - 23/1/2026 | Audicións de Música de Cámara e Conxunto
URL:https://conservatoriomanuelquiroga.gal/web/evento/26011923-audicions-de-musica-de-camara-e-conxunto/
LOCATION:Auditorio CMUS Manuel Quiroga · Pontevedra
END:VEVENT
BEGIN:VEVENT
DTSTART;TZID=Europe/Madrid:20260126T170000
DTEND;TZID=Europe/Madrid:20260126T170000
DTSTAMP:20260419T140134
CREATED:20260126T100719Z
LAST-MODIFIED:20260126T100719Z
UID:6114-1769446800-1769446800@conservatoriomanuelquiroga.gal
SUMMARY:Audición de Saxofón: alumnado de Pablo Estellés
DESCRIPTION:26/1/2026 | Audición de Saxofón: alumnado de Pablo Estellés
URL:https://conservatoriomanuelquiroga.gal/web/evento/260126-audicion-de-saxofon-alumnado-de-pablo-estelles/
LOCATION:Auditorio CMUS Manuel Quiroga · Pontevedra
END:VEVENT
BEGIN:VEVENT
DTSTART;TZID=Europe/Madrid:20260128T200000
DTEND;TZID=Europe/Madrid:20260128T200000
DTSTAMP:20260419T140134
CREATED:20260125T224350Z
LAST-MODIFIED:20260125T224350Z
UID:6049-1769630400-1769630400@conservatoriomanuelquiroga.gal
SUMMARY:Concerto: o CMUS no Teatro Principal
DESCRIPTION:28/1/2026 | Concerto: o CMUS no Teatro Principal
URL:https://conservatoriomanuelquiroga.gal/web/evento/260128-concerto-o-cmus-no-teatro-principal/
LOCATION:Teatro Principal · Pontevedra
END:VEVENT
BEGIN:VEVENT
DTSTART;TZID=Europe/Madrid:20260129T160000
DTEND;TZID=Europe/Madrid:20260129T160000
DTSTAMP:20260419T140134
CREATED:20260126T100846Z
LAST-MODIFIED:20260126T101226Z
UID:6117-1769702400-1769702400@conservatoriomanuelquiroga.gal
SUMMARY:Audicións de Clarinete: alumnado de Paula\, Lorena e Cándido
DESCRIPTION:29/1/2026 | Audicións de Clarinete: alumnado de Paula\, Lorena e Cándido
URL:https://conservatoriomanuelquiroga.gal/web/evento/260129-audicions-de-clarinete-alumnado-de-paula-lorena-e-candido/
LOCATION:Auditorio CMUS Manuel Quiroga · Pontevedra
END:VEVENT
BEGIN:VEVENT
DTSTART;TZID=Europe/Madrid:20260130T173000
DTEND;TZID=Europe/Madrid:20260130T173000
DTSTAMP:20260419T140134
CREATED:20260125T234045Z
LAST-MODIFIED:20260125T235827Z
UID:6068-1769794200-1769794200@conservatoriomanuelquiroga.gal
SUMMARY:Charla-taller: a evolución dos instrumentos de corda ao longo da historia · Roberto Santamarina
DESCRIPTION:30/1/2026 | Charla-taller: a evolución dos instrumentos de corda ao longo da historia · Roberto Santamarina
URL:https://conservatoriomanuelquiroga.gal/web/evento/260130-charla-taller-a-evolucion-dos-instrumentos-de-corda-ao-longo-da-historia-%c2%b7-roberto-santamarina/
LOCATION:Biblioteca CMUS Manuel Quiroga · Pontevedra
END:VEVENT
BEGIN:VEVENT
DTSTART;TZID=Europe/Madrid:20260131T100000
DTEND;TZID=Europe/Madrid:20260131T140000
DTSTAMP:20260419T140134
CREATED:20251215T173551Z
LAST-MODIFIED:20251215T173551Z
UID:5864-1769853600-1769868000@conservatoriomanuelquiroga.gal
SUMMARY:Taller práctico sobre medo escénico\, con Chus Vega
DESCRIPTION:31/1/2026 | Taller práctico sobre medo escénico\, con Chus Vega
URL:https://conservatoriomanuelquiroga.gal/web/evento/250131-taller-practico-sobre-medo-escenico-con-chus-vega/
LOCATION:Auditorio CMUS Manuel Quiroga · Pontevedra
END:VEVENT
END:VCALENDAR