BEGIN:VCALENDAR
VERSION:2.0
PRODID:-//CMUS Manuel Quiroga, Pontevedra - ECPv6.15.17//NONSGML v1.0//EN
CALSCALE:GREGORIAN
METHOD:PUBLISH
X-ORIGINAL-URL:https://conservatoriomanuelquiroga.gal/web
X-WR-CALDESC:Events for CMUS Manuel Quiroga, Pontevedra
REFRESH-INTERVAL;VALUE=DURATION:PT1H
X-Robots-Tag:noindex
X-PUBLISHED-TTL:PT1H
BEGIN:VTIMEZONE
TZID:Europe/Brussels
BEGIN:DAYLIGHT
TZOFFSETFROM:+0100
TZOFFSETTO:+0200
TZNAME:CEST
DTSTART:20240331T010000
END:DAYLIGHT
BEGIN:STANDARD
TZOFFSETFROM:+0200
TZOFFSETTO:+0100
TZNAME:CET
DTSTART:20241027T010000
END:STANDARD
BEGIN:DAYLIGHT
TZOFFSETFROM:+0100
TZOFFSETTO:+0200
TZNAME:CEST
DTSTART:20250330T010000
END:DAYLIGHT
BEGIN:STANDARD
TZOFFSETFROM:+0200
TZOFFSETTO:+0100
TZNAME:CET
DTSTART:20251026T010000
END:STANDARD
BEGIN:DAYLIGHT
TZOFFSETFROM:+0100
TZOFFSETTO:+0200
TZNAME:CEST
DTSTART:20260329T010000
END:DAYLIGHT
BEGIN:STANDARD
TZOFFSETFROM:+0200
TZOFFSETTO:+0100
TZNAME:CET
DTSTART:20261025T010000
END:STANDARD
END:VTIMEZONE
BEGIN:VTIMEZONE
TZID:Europe/Madrid
BEGIN:DAYLIGHT
TZOFFSETFROM:+0100
TZOFFSETTO:+0200
TZNAME:CEST
DTSTART:20240331T010000
END:DAYLIGHT
BEGIN:STANDARD
TZOFFSETFROM:+0200
TZOFFSETTO:+0100
TZNAME:CET
DTSTART:20241027T010000
END:STANDARD
BEGIN:DAYLIGHT
TZOFFSETFROM:+0100
TZOFFSETTO:+0200
TZNAME:CEST
DTSTART:20250330T010000
END:DAYLIGHT
BEGIN:STANDARD
TZOFFSETFROM:+0200
TZOFFSETTO:+0100
TZNAME:CET
DTSTART:20251026T010000
END:STANDARD
BEGIN:DAYLIGHT
TZOFFSETFROM:+0100
TZOFFSETTO:+0200
TZNAME:CEST
DTSTART:20260329T010000
END:DAYLIGHT
BEGIN:STANDARD
TZOFFSETFROM:+0200
TZOFFSETTO:+0100
TZNAME:CET
DTSTART:20261025T010000
END:STANDARD
END:VTIMEZONE
BEGIN:VEVENT
DTSTART;VALUE=DATE:20250505
DTEND;VALUE=DATE:20250510
DTSTAMP:20260421T234439
CREATED:20250411T092742Z
LAST-MODIFIED:20250411T092742Z
UID:4517-1746403200-1746835199@conservatoriomanuelquiroga.gal
SUMMARY:Recitais Fin de Grao 2025
DESCRIPTION:30/4 - 9/5/2025 | Recitais Fin de Grao
URL:https://conservatoriomanuelquiroga.gal/web/evento/recitais-fin-de-grao-2025/
LOCATION:Auditorio CMUS Manuel Quiroga · Pontevedra
END:VEVENT
BEGIN:VEVENT
DTSTART;TZID=Europe/Madrid:20250508T193000
DTEND;TZID=Europe/Madrid:20250508T193000
DTSTAMP:20260421T234439
CREATED:20250505T081026Z
LAST-MODIFIED:20250505T081049Z
UID:4657-1746732600-1746732600@conservatoriomanuelquiroga.gal
SUMMARY:Graduación 2025
DESCRIPTION:8/5/2025 | Graduación 2025
URL:https://conservatoriomanuelquiroga.gal/web/evento/250508-graduacion-2025/
LOCATION:Pazo da Cultura · Pontevedra
END:VEVENT
BEGIN:VEVENT
DTSTART;TZID=Europe/Madrid:20250509T190000
DTEND;TZID=Europe/Madrid:20250509T190000
DTSTAMP:20260421T234439
CREATED:20250508T085810Z
LAST-MODIFIED:20250508T085810Z
UID:4689-1746817200-1746817200@conservatoriomanuelquiroga.gal
SUMMARY:Concerto: Festa da Primavera en A Parda
DESCRIPTION:9/5/2025 | Concerto: Festa da Primavera en A Parda
URL:https://conservatoriomanuelquiroga.gal/web/evento/250509-concerto-festa-da-primavera-en-a-parda/
LOCATION:Parque Damián (Pintor Laxeiro) · Pontevedra
END:VEVENT
BEGIN:VEVENT
DTSTART;TZID=Europe/Madrid:20250513T183000
DTEND;TZID=Europe/Madrid:20250513T183000
DTSTAMP:20260421T234439
CREATED:20250513T095236Z
LAST-MODIFIED:20250513T100205Z
UID:4778-1747161000-1747161000@conservatoriomanuelquiroga.gal
SUMMARY:Audición 6ºGP: Violonchelo e Corda pulsada
DESCRIPTION:13 - 27/5/2025 | Audicións 3º trimestre: 6ºGP
URL:https://conservatoriomanuelquiroga.gal/web/evento/250513-audicion-6gp-violonchelo-e-corda-pulsada/
LOCATION:Auditorio CMUS Manuel Quiroga · Pontevedra
END:VEVENT
BEGIN:VEVENT
DTSTART;TZID=Europe/Madrid:20250514T183000
DTEND;TZID=Europe/Madrid:20250514T183000
DTSTAMP:20260421T234439
CREATED:20250513T095520Z
LAST-MODIFIED:20250513T142706Z
UID:4783-1747247400-1747247400@conservatoriomanuelquiroga.gal
SUMMARY:Audición 6ºGP: Frauta travesa
DESCRIPTION:13 - 27/5/2025 | Audicións 3º trimestre: 6ºGP
URL:https://conservatoriomanuelquiroga.gal/web/evento/250514-audicion-6gp-frauta-travesa/
LOCATION:Auditorio CMUS Manuel Quiroga · Pontevedra
END:VEVENT
BEGIN:VEVENT
DTSTART;TZID=Europe/Madrid:20250514T200000
DTEND;TZID=Europe/Madrid:20250514T200000
DTSTAMP:20260421T234439
CREATED:20250513T144024Z
LAST-MODIFIED:20250514T123950Z
UID:4815-1747252800-1747252800@conservatoriomanuelquiroga.gal
SUMMARY:Concerto: Solistas ao piano
DESCRIPTION:14/5/2025 | Concerto: Solistas ao piano
URL:https://conservatoriomanuelquiroga.gal/web/evento/250514-concerto-solistas-ao-piano/
LOCATION:Auditorio CMUS Manuel Quiroga · Pontevedra
END:VEVENT
BEGIN:VEVENT
DTSTART;TZID=Europe/Madrid:20250515T160000
DTEND;TZID=Europe/Madrid:20250515T160000
DTSTAMP:20260421T234439
CREATED:20250513T095723Z
LAST-MODIFIED:20250513T142638Z
UID:4787-1747324800-1747324800@conservatoriomanuelquiroga.gal
SUMMARY:Audición 6ºGP: Violín
DESCRIPTION:13 - 27/5/2025 | Audicións 3º trimestre: 6ºGP
URL:https://conservatoriomanuelquiroga.gal/web/evento/250515-audicion-6ogp-violin/
LOCATION:Auditorio CMUS Manuel Quiroga · Pontevedra
END:VEVENT
BEGIN:VEVENT
DTSTART;TZID=Europe/Madrid:20250515T190000
DTEND;TZID=Europe/Madrid:20250515T200000
DTSTAMP:20260421T234439
CREATED:20250514T132507Z
LAST-MODIFIED:20250514T133525Z
UID:4833-1747335600-1747339200@conservatoriomanuelquiroga.gal
SUMMARY:Concerto didáctico das Letras Galegas 2025: Asociación Cultural Soalleira
DESCRIPTION:15/5/2025 | Concerto didáctico das Letras Galegas 2025\, coa Asociación Cultural Soalleira
URL:https://conservatoriomanuelquiroga.gal/web/evento/concerto-didactico-das-letras-galegas-2025-asociacion-cultural-soalleira/
LOCATION:Auditorio CMUS Manuel Quiroga · Pontevedra
END:VEVENT
BEGIN:VEVENT
DTSTART;VALUE=DATE:20250516
DTEND;VALUE=DATE:20250517
DTSTAMP:20260421T234439
CREATED:20250411T093552Z
LAST-MODIFIED:20250411T094011Z
UID:4522-1747353600-1747439999@conservatoriomanuelquiroga.gal
SUMMARY:Audicións 3º trimestre
DESCRIPTION:16/5 - 2/6/2025 | Audicións 3º trimestre
URL:https://conservatoriomanuelquiroga.gal/web/evento/250516-audicions-3o-trimestre/
LOCATION:Auditorio CMUS Manuel Quiroga · Pontevedra
END:VEVENT
BEGIN:VEVENT
DTSTART;TZID=Europe/Madrid:20250516T193000
DTEND;TZID=Europe/Madrid:20250516T193000
DTSTAMP:20260421T234439
CREATED:20250513T094327Z
LAST-MODIFIED:20250513T094327Z
UID:4773-1747423800-1747423800@conservatoriomanuelquiroga.gal
SUMMARY:Concerto das Letras: A 3 Bandas
DESCRIPTION:16/5/2025 | Concerto das Letras: A 3 Bandas
URL:https://conservatoriomanuelquiroga.gal/web/evento/250516-concerto-das-letras-a-3-bandas/
LOCATION:Praza da Ferraría · Pontevedra
END:VEVENT
BEGIN:VEVENT
DTSTART;VALUE=DATE:20250519
DTEND;VALUE=DATE:20250524
DTSTAMP:20260421T234439
CREATED:20250411T094225Z
LAST-MODIFIED:20250411T094225Z
UID:4525-1747612800-1748044799@conservatoriomanuelquiroga.gal
SUMMARY:Audicións 3º trimestre
DESCRIPTION:16/5 - 2/6/2025 | Audicións 3º trimestre
URL:https://conservatoriomanuelquiroga.gal/web/evento/25051923-audicions-3o-trimestre/
LOCATION:Auditorio CMUS Manuel Quiroga · Pontevedra
END:VEVENT
BEGIN:VEVENT
DTSTART;VALUE=DATE:20250520
DTEND;VALUE=DATE:20250521
DTSTAMP:20260421T234439
CREATED:20250519T080346Z
LAST-MODIFIED:20250519T080346Z
UID:4881-1747699200-1747785599@conservatoriomanuelquiroga.gal
SUMMARY:Concerto Intercambio de Piano co Conservatório Calouste Gulbenkian de Braga (Portugal)
DESCRIPTION:20/5/2025 | XIV Concerto Intercambio co Conservatório de Música Calouste Gulbenkian de Braga (Portugal)
URL:https://conservatoriomanuelquiroga.gal/web/evento/250520-concerto-intercambio-de-piano-co-conservatorio-calouste-gulbenkian-de-braga-portugal/
LOCATION:Conservatório Calouste Gulbenkian · Braga (Portugal)
END:VEVENT
BEGIN:VEVENT
DTSTART;TZID=Europe/Madrid:20250523T113000
DTEND;TZID=Europe/Madrid:20250523T113000
DTSTAMP:20260421T234439
CREATED:20250513T095831Z
LAST-MODIFIED:20250513T095859Z
UID:4790-1747999800-1747999800@conservatoriomanuelquiroga.gal
SUMMARY:Audición 6ºGP: Trombón
DESCRIPTION:13 - 27/5/2025 | Audicións 3º trimestre: 6ºGP
URL:https://conservatoriomanuelquiroga.gal/web/evento/250523-audicion-6ogp-trombon/
LOCATION:Auditorio CMUS Manuel Quiroga · Pontevedra
END:VEVENT
BEGIN:VEVENT
DTSTART;VALUE=DATE:20250526
DTEND;VALUE=DATE:20250531
DTSTAMP:20260421T234439
CREATED:20250411T094408Z
LAST-MODIFIED:20250411T094426Z
UID:4528-1748217600-1748649599@conservatoriomanuelquiroga.gal
SUMMARY:Audicións 3º trimestre
DESCRIPTION:16/5 - 2/6/2025 | Audicións 3º trimestre
URL:https://conservatoriomanuelquiroga.gal/web/evento/25052630-audicions-3o-trimestre/
LOCATION:Auditorio CMUS Manuel Quiroga · Pontevedra
END:VEVENT
BEGIN:VEVENT
DTSTART;TZID=Europe/Madrid:20250527T120000
DTEND;TZID=Europe/Madrid:20250527T120000
DTSTAMP:20260421T234439
CREATED:20250513T100009Z
LAST-MODIFIED:20250513T100032Z
UID:4793-1748347200-1748347200@conservatoriomanuelquiroga.gal
SUMMARY:Audición 6ºGP: Clave
DESCRIPTION:13 - 27/5/2025 | Audicións 3º trimestre: 6ºGP
URL:https://conservatoriomanuelquiroga.gal/web/evento/250527-audicion-6gp-clave/
LOCATION:Auditorio CMUS Manuel Quiroga · Pontevedra
END:VEVENT
BEGIN:VEVENT
DTSTART;TZID=Europe/Madrid:20250530T203000
DTEND;TZID=Europe/Madrid:20250530T203000
DTSTAMP:20260421T234439
CREATED:20250423T083650Z
LAST-MODIFIED:20250513T101301Z
UID:4579-1748637000-1748637000@conservatoriomanuelquiroga.gal
SUMMARY:Música e danza na corte de Luís XV: Orquestra barroca CMQ & Escola de Danza Deborah
DESCRIPTION:30/5/2025 | Música e danza na corte de Luís XV
URL:https://conservatoriomanuelquiroga.gal/web/evento/250530-musica-e-danza-na-corte-de-luis-xv/
LOCATION:UNED - Pontevedra
END:VEVENT
END:VCALENDAR