BEGIN:VCALENDAR
VERSION:2.0
PRODID:-//CMUS Manuel Quiroga, Pontevedra - ECPv6.15.17//NONSGML v1.0//EN
CALSCALE:GREGORIAN
METHOD:PUBLISH
X-WR-CALNAME:CMUS Manuel Quiroga, Pontevedra
X-ORIGINAL-URL:https://conservatoriomanuelquiroga.gal/web
X-WR-CALDESC:Events for CMUS Manuel Quiroga, Pontevedra
REFRESH-INTERVAL;VALUE=DURATION:PT1H
X-Robots-Tag:noindex
X-PUBLISHED-TTL:PT1H
BEGIN:VTIMEZONE
TZID:Europe/Madrid
BEGIN:DAYLIGHT
TZOFFSETFROM:+0100
TZOFFSETTO:+0200
TZNAME:CEST
DTSTART:20240331T010000
END:DAYLIGHT
BEGIN:STANDARD
TZOFFSETFROM:+0200
TZOFFSETTO:+0100
TZNAME:CET
DTSTART:20241027T010000
END:STANDARD
BEGIN:DAYLIGHT
TZOFFSETFROM:+0100
TZOFFSETTO:+0200
TZNAME:CEST
DTSTART:20250330T010000
END:DAYLIGHT
BEGIN:STANDARD
TZOFFSETFROM:+0200
TZOFFSETTO:+0100
TZNAME:CET
DTSTART:20251026T010000
END:STANDARD
BEGIN:DAYLIGHT
TZOFFSETFROM:+0100
TZOFFSETTO:+0200
TZNAME:CEST
DTSTART:20260329T010000
END:DAYLIGHT
BEGIN:STANDARD
TZOFFSETFROM:+0200
TZOFFSETTO:+0100
TZNAME:CET
DTSTART:20261025T010000
END:STANDARD
END:VTIMEZONE
BEGIN:VEVENT
DTSTART;TZID=Europe/Madrid:20251016T170000
DTEND;TZID=Europe/Madrid:20251016T170000
DTSTAMP:20260421T193358
CREATED:20251009T132552Z
LAST-MODIFIED:20251009T132616Z
UID:5437-1760634000-1760634000@conservatoriomanuelquiroga.gal
SUMMARY:Erasmus Days: Öffentliche Probe der Kinderband
DESCRIPTION:16/10/2025 | Erasmus Days: Öffentliche Probe der Kinderband
URL:https://conservatoriomanuelquiroga.gal/web/evento/251016-erasmus-days-offentliche-probe-der-kinderband/
LOCATION:Auditorio CMUS Manuel Quiroga · Pontevedra
END:VEVENT
BEGIN:VEVENT
DTSTART;TZID=Europe/Madrid:20251016T180000
DTEND;TZID=Europe/Madrid:20251016T180000
DTSTAMP:20260421T193358
CREATED:20251009T132803Z
LAST-MODIFIED:20251009T132803Z
UID:5440-1760637600-1760637600@conservatoriomanuelquiroga.gal
SUMMARY:Erasmus Days: Open Rehearsal of the Children’s Orchestra
DESCRIPTION:16/10/2025 | Erasmus Days: Open Rehearsal of the Children’s Orchestra
URL:https://conservatoriomanuelquiroga.gal/web/evento/251016-erasmus-days-open-rehearsal-of-the-childrens-orchestra/
LOCATION:Auditorio CMUS Manuel Quiroga · Pontevedra
END:VEVENT
END:VCALENDAR