BEGIN:VCALENDAR
VERSION:2.0
PRODID:-//CMUS Manuel Quiroga, Pontevedra - ECPv6.15.17//NONSGML v1.0//EN
CALSCALE:GREGORIAN
METHOD:PUBLISH
X-WR-CALNAME:CMUS Manuel Quiroga, Pontevedra
X-ORIGINAL-URL:https://conservatoriomanuelquiroga.gal/web
X-WR-CALDESC:Events for CMUS Manuel Quiroga, Pontevedra
REFRESH-INTERVAL;VALUE=DURATION:PT1H
X-Robots-Tag:noindex
X-PUBLISHED-TTL:PT1H
BEGIN:VTIMEZONE
TZID:Europe/Paris
BEGIN:DAYLIGHT
TZOFFSETFROM:+0100
TZOFFSETTO:+0200
TZNAME:CEST
DTSTART:20240331T010000
END:DAYLIGHT
BEGIN:STANDARD
TZOFFSETFROM:+0200
TZOFFSETTO:+0100
TZNAME:CET
DTSTART:20241027T010000
END:STANDARD
BEGIN:DAYLIGHT
TZOFFSETFROM:+0100
TZOFFSETTO:+0200
TZNAME:CEST
DTSTART:20250330T010000
END:DAYLIGHT
BEGIN:STANDARD
TZOFFSETFROM:+0200
TZOFFSETTO:+0100
TZNAME:CET
DTSTART:20251026T010000
END:STANDARD
BEGIN:DAYLIGHT
TZOFFSETFROM:+0100
TZOFFSETTO:+0200
TZNAME:CEST
DTSTART:20260329T010000
END:DAYLIGHT
BEGIN:STANDARD
TZOFFSETFROM:+0200
TZOFFSETTO:+0100
TZNAME:CET
DTSTART:20261025T010000
END:STANDARD
END:VTIMEZONE
BEGIN:VTIMEZONE
TZID:Europe/Madrid
BEGIN:DAYLIGHT
TZOFFSETFROM:+0100
TZOFFSETTO:+0200
TZNAME:CEST
DTSTART:20240331T010000
END:DAYLIGHT
BEGIN:STANDARD
TZOFFSETFROM:+0200
TZOFFSETTO:+0100
TZNAME:CET
DTSTART:20241027T010000
END:STANDARD
BEGIN:DAYLIGHT
TZOFFSETFROM:+0100
TZOFFSETTO:+0200
TZNAME:CEST
DTSTART:20250330T010000
END:DAYLIGHT
BEGIN:STANDARD
TZOFFSETFROM:+0200
TZOFFSETTO:+0100
TZNAME:CET
DTSTART:20251026T010000
END:STANDARD
BEGIN:DAYLIGHT
TZOFFSETFROM:+0100
TZOFFSETTO:+0200
TZNAME:CEST
DTSTART:20260329T010000
END:DAYLIGHT
BEGIN:STANDARD
TZOFFSETFROM:+0200
TZOFFSETTO:+0100
TZNAME:CET
DTSTART:20261025T010000
END:STANDARD
END:VTIMEZONE
BEGIN:VEVENT
DTSTART;TZID=Europe/Paris:20250401T190000
DTEND;TZID=Europe/Paris:20250401T190000
DTSTAMP:20260423T233552
CREATED:20250325T111126Z
LAST-MODIFIED:20250325T111142Z
UID:4166-1743534000-1743534000@conservatoriomanuelquiroga.gal
SUMMARY:En Cámara: Concerto de profesores
DESCRIPTION:1/4/2025 | En Cámara: Concerto de profesores
URL:https://conservatoriomanuelquiroga.gal/web/evento/en-camara-concerto-de-profesores/
LOCATION:Auditorio CMUS Manuel Quiroga · Pontevedra
END:VEVENT
BEGIN:VEVENT
DTSTART;TZID=Europe/Paris:20250403T100000
DTEND;TZID=Europe/Paris:20250403T120000
DTSTAMP:20260423T233552
CREATED:20250325T114224Z
LAST-MODIFIED:20250325T114224Z
UID:4188-1743674400-1743681600@conservatoriomanuelquiroga.gal
SUMMARY:Masterclass con Ilona Timchenko
DESCRIPTION:3/4/2025 | Seminario de Música de Cámara: Masterclass con Ilona Timchenko
URL:https://conservatoriomanuelquiroga.gal/web/evento/250403-masterclass-con-ilona-timchenko/
LOCATION:Auditorio CMUS Manuel Quiroga · Pontevedra
END:VEVENT
BEGIN:VEVENT
DTSTART;TZID=Europe/Madrid:20250403T190000
DTEND;TZID=Europe/Madrid:20250403T190000
DTSTAMP:20260423T233552
CREATED:20250325T111338Z
LAST-MODIFIED:20250326T002243Z
UID:4170-1743706800-1743706800@conservatoriomanuelquiroga.gal
SUMMARY:En Cámara: Concerto de profesores
DESCRIPTION:3/4/2025 | En Cámara: Concerto de profesores
URL:https://conservatoriomanuelquiroga.gal/web/evento/250403-en-camara-concerto-de-profesores/
LOCATION:Auditorio CMUS Manuel Quiroga · Pontevedra
END:VEVENT
BEGIN:VEVENT
DTSTART;TZID=Europe/Madrid:20250404T100000
DTEND;TZID=Europe/Madrid:20250404T130000
DTSTAMP:20260423T233552
CREATED:20250325T114437Z
LAST-MODIFIED:20250326T002001Z
UID:4191-1743760800-1743771600@conservatoriomanuelquiroga.gal
SUMMARY:Masterclass con Ilona Timchenko
DESCRIPTION:4/4/2025 | Seminario de Música de Cámara: Masterclass con Ilona Timchenko
URL:https://conservatoriomanuelquiroga.gal/web/evento/250404-masterclass-con-ilona-timchenko/
END:VEVENT
BEGIN:VEVENT
DTSTART;TZID=Europe/Madrid:20250407T160000
DTEND;TZID=Europe/Madrid:20250411T190000
DTSTAMP:20260423T233552
CREATED:20250331T080510Z
LAST-MODIFIED:20250407T134318Z
UID:4283-1744041600-1744398000@conservatoriomanuelquiroga.gal
SUMMARY:Audicións de Música de cámara e Conxunto
DESCRIPTION:7 – 11/4/2025 | Audicións de Música de Cámara e Conxunto
URL:https://conservatoriomanuelquiroga.gal/web/evento/2504711audicions-de-musica-de-camara-e-conxunto/
LOCATION:Auditorio CMUS Manuel Quiroga · Pontevedra
END:VEVENT
BEGIN:VEVENT
DTSTART;TZID=Europe/Madrid:20250411T170000
DTEND;TZID=Europe/Madrid:20250411T190000
DTSTAMP:20260423T233552
CREATED:20250331T081038Z
LAST-MODIFIED:20250411T000533Z
UID:4288-1744390800-1744398000@conservatoriomanuelquiroga.gal
SUMMARY:Concerto e entrega de premios | 2º Concurso de Música de Cámara CMUS Manuel Quiroga
DESCRIPTION:11/4/2025 | Concerto e entrega e premios do 2º Concurso de Música de Cámara
URL:https://conservatoriomanuelquiroga.gal/web/evento/250411-concerto-e-entrega-de-premios-2o-concurso-de-musica-de-camara-cmus-manuel-quiroga/
LOCATION:Auditorio CMUS Manuel Quiroga · Pontevedra
END:VEVENT
END:VCALENDAR