BEGIN:VCALENDAR
VERSION:2.0
PRODID:-//CMUS Manuel Quiroga, Pontevedra - ECPv6.15.17//NONSGML v1.0//EN
CALSCALE:GREGORIAN
METHOD:PUBLISH
X-WR-CALNAME:CMUS Manuel Quiroga, Pontevedra
X-ORIGINAL-URL:https://conservatoriomanuelquiroga.gal/web
X-WR-CALDESC:Events for CMUS Manuel Quiroga, Pontevedra
REFRESH-INTERVAL;VALUE=DURATION:PT1H
X-Robots-Tag:noindex
X-PUBLISHED-TTL:PT1H
BEGIN:VTIMEZONE
TZID:Europe/Helsinki
BEGIN:DAYLIGHT
TZOFFSETFROM:+0200
TZOFFSETTO:+0300
TZNAME:EEST
DTSTART:20240331T010000
END:DAYLIGHT
BEGIN:STANDARD
TZOFFSETFROM:+0300
TZOFFSETTO:+0200
TZNAME:EET
DTSTART:20241027T010000
END:STANDARD
BEGIN:DAYLIGHT
TZOFFSETFROM:+0200
TZOFFSETTO:+0300
TZNAME:EEST
DTSTART:20250330T010000
END:DAYLIGHT
BEGIN:STANDARD
TZOFFSETFROM:+0300
TZOFFSETTO:+0200
TZNAME:EET
DTSTART:20251026T010000
END:STANDARD
BEGIN:DAYLIGHT
TZOFFSETFROM:+0200
TZOFFSETTO:+0300
TZNAME:EEST
DTSTART:20260329T010000
END:DAYLIGHT
BEGIN:STANDARD
TZOFFSETFROM:+0300
TZOFFSETTO:+0200
TZNAME:EET
DTSTART:20261025T010000
END:STANDARD
END:VTIMEZONE
BEGIN:VTIMEZONE
TZID:Europe/Paris
BEGIN:DAYLIGHT
TZOFFSETFROM:+0100
TZOFFSETTO:+0200
TZNAME:CEST
DTSTART:20240331T010000
END:DAYLIGHT
BEGIN:STANDARD
TZOFFSETFROM:+0200
TZOFFSETTO:+0100
TZNAME:CET
DTSTART:20241027T010000
END:STANDARD
BEGIN:DAYLIGHT
TZOFFSETFROM:+0100
TZOFFSETTO:+0200
TZNAME:CEST
DTSTART:20250330T010000
END:DAYLIGHT
BEGIN:STANDARD
TZOFFSETFROM:+0200
TZOFFSETTO:+0100
TZNAME:CET
DTSTART:20251026T010000
END:STANDARD
BEGIN:DAYLIGHT
TZOFFSETFROM:+0100
TZOFFSETTO:+0200
TZNAME:CEST
DTSTART:20260329T010000
END:DAYLIGHT
BEGIN:STANDARD
TZOFFSETFROM:+0200
TZOFFSETTO:+0100
TZNAME:CET
DTSTART:20261025T010000
END:STANDARD
END:VTIMEZONE
BEGIN:VEVENT
DTSTART;TZID=Europe/Helsinki:20250324T100000
DTEND;TZID=Europe/Helsinki:20250324T100000
DTSTAMP:20260423T215932
CREATED:20250322T005500Z
LAST-MODIFIED:20250325T165420Z
UID:4082-1742810400-1742810400@conservatoriomanuelquiroga.gal
SUMMARY:Masterclass con Álex Salgueiro
DESCRIPTION:24/3/2025 | Seminario de Música de Cámara: Masterclass con Álex Salgueiro
URL:https://conservatoriomanuelquiroga.gal/web/evento/250324-masterclass-con-alex-salgueiro/
LOCATION:Auditorio CMUS Manuel Quiroga · Pontevedra
END:VEVENT
BEGIN:VEVENT
DTSTART;TZID=Europe/Paris:20250326T093000
DTEND;TZID=Europe/Paris:20250326T140000
DTSTAMP:20260423T215932
CREATED:20250322T013746Z
LAST-MODIFIED:20250325T162858Z
UID:4096-1742981400-1742997600@conservatoriomanuelquiroga.gal
SUMMARY:Clase maxistral de flamenco con Juan Parrilla
DESCRIPTION:26 – 27/3/2025 | Clases maxistrais de flamenco: Juan Parrilla
URL:https://conservatoriomanuelquiroga.gal/web/evento/250326-clase-maxistral-de-flamenco-con-juan-parrilla/
LOCATION:Auditorio CMUS Manuel Quiroga · Pontevedra
END:VEVENT
BEGIN:VEVENT
DTSTART;TZID=Europe/Paris:20250327T093000
DTEND;TZID=Europe/Paris:20250327T140000
DTSTAMP:20260423T215932
CREATED:20250322T013902Z
LAST-MODIFIED:20250326T001346Z
UID:4098-1743067800-1743084000@conservatoriomanuelquiroga.gal
SUMMARY:Clase maxistral de flamenco con Juan Parrilla
DESCRIPTION:26 – 27/3/2025 | Clases maxistrais de flamenco: Juan Parrilla
URL:https://conservatoriomanuelquiroga.gal/web/evento/250327-clase-maxistral-de-flamenco-con-juan-parrilla/
LOCATION:Auditorio CMUS Manuel Quiroga · Pontevedra
END:VEVENT
BEGIN:VEVENT
DTSTART;TZID=Europe/Paris:20250328T100000
DTEND;TZID=Europe/Paris:20250328T100000
DTSTAMP:20260423T215932
CREATED:20250324T105209Z
LAST-MODIFIED:20250326T001413Z
UID:4140-1743156000-1743156000@conservatoriomanuelquiroga.gal
SUMMARY:Masterclass con Álex Salgueiro
DESCRIPTION:28/3/2025 | Seminario de Música de Cámara: Masterclass con Álex Salgueiro
URL:https://conservatoriomanuelquiroga.gal/web/evento/250328-masterclass-con-alex-salgueiro/
LOCATION:Auditorio CMUS Manuel Quiroga · Pontevedra
END:VEVENT
BEGIN:VEVENT
DTSTART;TZID=Europe/Paris:20250328T120000
DTEND;TZID=Europe/Paris:20250328T120000
DTSTAMP:20260423T215932
CREATED:20250324T105336Z
LAST-MODIFIED:20250326T001453Z
UID:4144-1743163200-1743163200@conservatoriomanuelquiroga.gal
SUMMARY:Masterclass con Ilona Timchenko
DESCRIPTION:28/3/2025 | Seminario de Música de Cámara: Masterclass con Ilona Timchenko
URL:https://conservatoriomanuelquiroga.gal/web/evento/250328-masterclass-con-ilona-timchenko/
LOCATION:Auditorio CMUS Manuel Quiroga · Pontevedra
END:VEVENT
BEGIN:VEVENT
DTSTART;TZID=Europe/Paris:20250331T100000
DTEND;TZID=Europe/Paris:20250331T130000
DTSTAMP:20260423T215932
CREATED:20250325T114005Z
LAST-MODIFIED:20250325T122316Z
UID:4185-1743415200-1743426000@conservatoriomanuelquiroga.gal
SUMMARY:Masterclass con Álex Salgueiro
DESCRIPTION:31/3/2025 | Seminario de Música de Cámara: Masterclass con Álex Salgueiro
URL:https://conservatoriomanuelquiroga.gal/web/evento/250331-masterclass-con-alex-salgueiro/
LOCATION:Auditorio CMUS Manuel Quiroga · Pontevedra
END:VEVENT
END:VCALENDAR