BEGIN:VCALENDAR
VERSION:2.0
PRODID:-//CMUS Manuel Quiroga, Pontevedra - ECPv6.15.17//NONSGML v1.0//EN
CALSCALE:GREGORIAN
METHOD:PUBLISH
X-WR-CALNAME:CMUS Manuel Quiroga, Pontevedra
X-ORIGINAL-URL:https://conservatoriomanuelquiroga.gal/web
X-WR-CALDESC:Events for CMUS Manuel Quiroga, Pontevedra
REFRESH-INTERVAL;VALUE=DURATION:PT1H
X-Robots-Tag:noindex
X-PUBLISHED-TTL:PT1H
BEGIN:VTIMEZONE
TZID:Europe/Madrid
BEGIN:DAYLIGHT
TZOFFSETFROM:+0100
TZOFFSETTO:+0200
TZNAME:CEST
DTSTART:20240331T010000
END:DAYLIGHT
BEGIN:STANDARD
TZOFFSETFROM:+0200
TZOFFSETTO:+0100
TZNAME:CET
DTSTART:20241027T010000
END:STANDARD
BEGIN:DAYLIGHT
TZOFFSETFROM:+0100
TZOFFSETTO:+0200
TZNAME:CEST
DTSTART:20250330T010000
END:DAYLIGHT
BEGIN:STANDARD
TZOFFSETFROM:+0200
TZOFFSETTO:+0100
TZNAME:CET
DTSTART:20251026T010000
END:STANDARD
BEGIN:DAYLIGHT
TZOFFSETFROM:+0100
TZOFFSETTO:+0200
TZNAME:CEST
DTSTART:20260329T010000
END:DAYLIGHT
BEGIN:STANDARD
TZOFFSETFROM:+0200
TZOFFSETTO:+0100
TZNAME:CET
DTSTART:20261025T010000
END:STANDARD
END:VTIMEZONE
BEGIN:VEVENT
DTSTART;TZID=Europe/Madrid:20251028T203000
DTEND;TZID=Europe/Madrid:20251028T203000
DTSTAMP:20260421T193546
CREATED:20251016T154323Z
LAST-MODIFIED:20251016T154323Z
UID:5479-1761683400-1761683400@conservatoriomanuelquiroga.gal
SUMMARY:Acto de inauguración curso 2025/26: concerto da Orquestra Galega de Liberación
DESCRIPTION:28/10/2025 | Acto de inauguración do curso 2025/26: concerto da Orquestra Galega de Liberación
URL:https://conservatoriomanuelquiroga.gal/web/evento/251028-acto-de-inauguracion-curso-2025-26-concerto-da-orquestra-galega-de-liberacion/
LOCATION:Auditorio CMUS Manuel Quiroga · Pontevedra
END:VEVENT
END:VCALENDAR