BEGIN:VCALENDAR
VERSION:2.0
PRODID:-//CMUS Manuel Quiroga, Pontevedra - ECPv6.15.17//NONSGML v1.0//EN
CALSCALE:GREGORIAN
METHOD:PUBLISH
X-ORIGINAL-URL:https://conservatoriomanuelquiroga.gal/web
X-WR-CALDESC:Events for CMUS Manuel Quiroga, Pontevedra
REFRESH-INTERVAL;VALUE=DURATION:PT1H
X-Robots-Tag:noindex
X-PUBLISHED-TTL:PT1H
BEGIN:VTIMEZONE
TZID:Europe/Madrid
BEGIN:DAYLIGHT
TZOFFSETFROM:+0100
TZOFFSETTO:+0200
TZNAME:CEST
DTSTART:20250330T010000
END:DAYLIGHT
BEGIN:STANDARD
TZOFFSETFROM:+0200
TZOFFSETTO:+0100
TZNAME:CET
DTSTART:20251026T010000
END:STANDARD
BEGIN:DAYLIGHT
TZOFFSETFROM:+0100
TZOFFSETTO:+0200
TZNAME:CEST
DTSTART:20260329T010000
END:DAYLIGHT
BEGIN:STANDARD
TZOFFSETFROM:+0200
TZOFFSETTO:+0100
TZNAME:CET
DTSTART:20261025T010000
END:STANDARD
BEGIN:DAYLIGHT
TZOFFSETFROM:+0100
TZOFFSETTO:+0200
TZNAME:CEST
DTSTART:20270328T010000
END:DAYLIGHT
BEGIN:STANDARD
TZOFFSETFROM:+0200
TZOFFSETTO:+0100
TZNAME:CET
DTSTART:20271031T010000
END:STANDARD
END:VTIMEZONE
BEGIN:VEVENT
DTSTART;TZID=Europe/Madrid:20260131T100000
DTEND;TZID=Europe/Madrid:20260131T140000
DTSTAMP:20260419T183153
CREATED:20251215T173551Z
LAST-MODIFIED:20251215T173551Z
UID:5864-1769853600-1769868000@conservatoriomanuelquiroga.gal
SUMMARY:Taller práctico sobre medo escénico\, con Chus Vega
DESCRIPTION:31/1/2026 | Taller práctico sobre medo escénico\, con Chus Vega
URL:https://conservatoriomanuelquiroga.gal/web/evento/250131-taller-practico-sobre-medo-escenico-con-chus-vega/
LOCATION:Auditorio CMUS Manuel Quiroga · Pontevedra
END:VEVENT
END:VCALENDAR