BEGIN:VCALENDAR
VERSION:2.0
PRODID:-//CMUS Manuel Quiroga, Pontevedra - ECPv6.15.17//NONSGML v1.0//EN
CALSCALE:GREGORIAN
METHOD:PUBLISH
X-WR-CALNAME:CMUS Manuel Quiroga, Pontevedra
X-ORIGINAL-URL:https://conservatoriomanuelquiroga.gal/web
X-WR-CALDESC:Events for CMUS Manuel Quiroga, Pontevedra
REFRESH-INTERVAL;VALUE=DURATION:PT1H
X-Robots-Tag:noindex
X-PUBLISHED-TTL:PT1H
BEGIN:VTIMEZONE
TZID:Europe/Brussels
BEGIN:DAYLIGHT
TZOFFSETFROM:+0100
TZOFFSETTO:+0200
TZNAME:CEST
DTSTART:20240331T010000
END:DAYLIGHT
BEGIN:STANDARD
TZOFFSETFROM:+0200
TZOFFSETTO:+0100
TZNAME:CET
DTSTART:20241027T010000
END:STANDARD
BEGIN:DAYLIGHT
TZOFFSETFROM:+0100
TZOFFSETTO:+0200
TZNAME:CEST
DTSTART:20250330T010000
END:DAYLIGHT
BEGIN:STANDARD
TZOFFSETFROM:+0200
TZOFFSETTO:+0100
TZNAME:CET
DTSTART:20251026T010000
END:STANDARD
BEGIN:DAYLIGHT
TZOFFSETFROM:+0100
TZOFFSETTO:+0200
TZNAME:CEST
DTSTART:20260329T010000
END:DAYLIGHT
BEGIN:STANDARD
TZOFFSETFROM:+0200
TZOFFSETTO:+0100
TZNAME:CET
DTSTART:20261025T010000
END:STANDARD
END:VTIMEZONE
BEGIN:VTIMEZONE
TZID:Europe/Madrid
BEGIN:DAYLIGHT
TZOFFSETFROM:+0100
TZOFFSETTO:+0200
TZNAME:CEST
DTSTART:20240331T010000
END:DAYLIGHT
BEGIN:STANDARD
TZOFFSETFROM:+0200
TZOFFSETTO:+0100
TZNAME:CET
DTSTART:20241027T010000
END:STANDARD
BEGIN:DAYLIGHT
TZOFFSETFROM:+0100
TZOFFSETTO:+0200
TZNAME:CEST
DTSTART:20250330T010000
END:DAYLIGHT
BEGIN:STANDARD
TZOFFSETFROM:+0200
TZOFFSETTO:+0100
TZNAME:CET
DTSTART:20251026T010000
END:STANDARD
BEGIN:DAYLIGHT
TZOFFSETFROM:+0100
TZOFFSETTO:+0200
TZNAME:CEST
DTSTART:20260329T010000
END:DAYLIGHT
BEGIN:STANDARD
TZOFFSETFROM:+0200
TZOFFSETTO:+0100
TZNAME:CET
DTSTART:20261025T010000
END:STANDARD
END:VTIMEZONE
BEGIN:VEVENT
DTSTART;VALUE=DATE:20250429
DTEND;VALUE=DATE:20250501
DTSTAMP:20260422T015024
CREATED:20250411T092524Z
LAST-MODIFIED:20250411T092546Z
UID:4514-1745884800-1746057599@conservatoriomanuelquiroga.gal
SUMMARY:Recitais Fin de Grao 2025
DESCRIPTION:30/4 - 9/5/2025 | Recitais Fin de Grao
URL:https://conservatoriomanuelquiroga.gal/web/evento/2504290509-recitais-fin-de-grao/
LOCATION:Auditorio CMUS Manuel Quiroga · Pontevedra
END:VEVENT
BEGIN:VEVENT
DTSTART;TZID=Europe/Madrid:20250430T193000
DTEND;TZID=Europe/Madrid:20250430T203000
DTSTAMP:20260422T015024
CREATED:20250410T201658Z
LAST-MODIFIED:20250410T201658Z
UID:4465-1746041400-1746045000@conservatoriomanuelquiroga.gal
SUMMARY:Concerto: Banda I (Cangas)
DESCRIPTION:30/4/2025 | Concerto da Banda I en Cangas
URL:https://conservatoriomanuelquiroga.gal/web/evento/250430-concerto-banda-i-cangas/
LOCATION:Auditorio de Cangas
END:VEVENT
BEGIN:VEVENT
DTSTART;TZID=Europe/Madrid:20250430T200000
DTEND;TZID=Europe/Madrid:20250430T200000
DTSTAMP:20260422T015024
CREATED:20250429T090455Z
LAST-MODIFIED:20250429T090455Z
UID:4622-1746043200-1746043200@conservatoriomanuelquiroga.gal
SUMMARY:Concerto: Orquestra II no CSMVigo
DESCRIPTION:30/4/2025 | Concerto da Orquestra II no CSMVigo
URL:https://conservatoriomanuelquiroga.gal/web/evento/250430-concerto-orquestra-ii-no-csmvigo/
LOCATION:Auditorio Martín Códax · CSMVigo
END:VEVENT
BEGIN:VEVENT
DTSTART;TZID=Europe/Madrid:20250430T200000
DTEND;TZID=Europe/Madrid:20250430T200000
DTSTAMP:20260422T015024
CREATED:20250430T085010Z
LAST-MODIFIED:20250430T085010Z
UID:4641-1746043200-1746043200@conservatoriomanuelquiroga.gal
SUMMARY:Concerto: O CMUS no Teatro Principal de Pontevedra
DESCRIPTION:30/4/2025 | Concerto: O CMUS no Teatro Principal
URL:https://conservatoriomanuelquiroga.gal/web/evento/250430-concerto-o-cmus-no-teatro-principal-de-pontevedra/
LOCATION:Teatro Principal · Pontevedra
END:VEVENT
END:VCALENDAR 