BEGIN:VCALENDAR
VERSION:2.0
PRODID:-//CMUS Manuel Quiroga, Pontevedra - ECPv6.15.17//NONSGML v1.0//EN
CALSCALE:GREGORIAN
METHOD:PUBLISH
X-ORIGINAL-URL:https://conservatoriomanuelquiroga.gal/web
X-WR-CALDESC:Events for CMUS Manuel Quiroga, Pontevedra
REFRESH-INTERVAL;VALUE=DURATION:PT1H
X-Robots-Tag:noindex
X-PUBLISHED-TTL:PT1H
BEGIN:VTIMEZONE
TZID:Europe/Madrid
BEGIN:DAYLIGHT
TZOFFSETFROM:+0100
TZOFFSETTO:+0200
TZNAME:CEST
DTSTART:20240331T010000
END:DAYLIGHT
BEGIN:STANDARD
TZOFFSETFROM:+0200
TZOFFSETTO:+0100
TZNAME:CET
DTSTART:20241027T010000
END:STANDARD
BEGIN:DAYLIGHT
TZOFFSETFROM:+0100
TZOFFSETTO:+0200
TZNAME:CEST
DTSTART:20250330T010000
END:DAYLIGHT
BEGIN:STANDARD
TZOFFSETFROM:+0200
TZOFFSETTO:+0100
TZNAME:CET
DTSTART:20251026T010000
END:STANDARD
BEGIN:DAYLIGHT
TZOFFSETFROM:+0100
TZOFFSETTO:+0200
TZNAME:CEST
DTSTART:20260329T010000
END:DAYLIGHT
BEGIN:STANDARD
TZOFFSETFROM:+0200
TZOFFSETTO:+0100
TZNAME:CET
DTSTART:20261025T010000
END:STANDARD
END:VTIMEZONE
BEGIN:VTIMEZONE
TZID:Europe/Brussels
BEGIN:DAYLIGHT
TZOFFSETFROM:+0100
TZOFFSETTO:+0200
TZNAME:CEST
DTSTART:20240331T010000
END:DAYLIGHT
BEGIN:STANDARD
TZOFFSETFROM:+0200
TZOFFSETTO:+0100
TZNAME:CET
DTSTART:20241027T010000
END:STANDARD
BEGIN:DAYLIGHT
TZOFFSETFROM:+0100
TZOFFSETTO:+0200
TZNAME:CEST
DTSTART:20250330T010000
END:DAYLIGHT
BEGIN:STANDARD
TZOFFSETFROM:+0200
TZOFFSETTO:+0100
TZNAME:CET
DTSTART:20251026T010000
END:STANDARD
BEGIN:DAYLIGHT
TZOFFSETFROM:+0100
TZOFFSETTO:+0200
TZNAME:CEST
DTSTART:20260329T010000
END:DAYLIGHT
BEGIN:STANDARD
TZOFFSETFROM:+0200
TZOFFSETTO:+0100
TZNAME:CET
DTSTART:20261025T010000
END:STANDARD
END:VTIMEZONE
BEGIN:VEVENT
DTSTART;TZID=Europe/Madrid:20250422T160000
DTEND;TZID=Europe/Madrid:20250428T220000
DTSTAMP:20260422T032224
CREATED:20250331T082819Z
LAST-MODIFIED:20250410T133644Z
UID:4291-1745337600-1745877600@conservatoriomanuelquiroga.gal
SUMMARY:Xornadas de Portas Abertas
DESCRIPTION:https://conservatoriomanuelquiroga.gal/web/22-28-abril-xornadas-de-portas-abertas-2025/
URL:https://conservatoriomanuelquiroga.gal/web/evento/25042228-xornadas-de-portas-abertas/
LOCATION:CMUS Manuel Quiroga · Pontevedra
END:VEVENT
BEGIN:VEVENT
DTSTART;VALUE=DATE:20250423
DTEND;VALUE=DATE:20250426
DTSTAMP:20260422T032224
CREATED:20250411T091553Z
LAST-MODIFIED:20250411T091553Z
UID:4508-1745366400-1745625599@conservatoriomanuelquiroga.gal
SUMMARY:Concertos didácticos 2025
DESCRIPTION:23-25 abril | Concertos didácticos 2025
URL:https://conservatoriomanuelquiroga.gal/web/evento/concertos-didacticos-2025/
LOCATION:Auditorio CMUS Manuel Quiroga · Pontevedra
END:VEVENT
BEGIN:VEVENT
DTSTART;TZID=Europe/Madrid:20250425T160000
DTEND;TZID=Europe/Madrid:20250425T160000
DTSTAMP:20260422T032224
CREATED:20250410T200312Z
LAST-MODIFIED:20250410T200503Z
UID:4455-1745596800-1745596800@conservatoriomanuelquiroga.gal
SUMMARY:Masterclass: coidado e mantemento do clarinete\, con Cintia Lomba
DESCRIPTION:25/4/2025 | Masterclass: coidado e mantemento do clarinete\, con Cintia Lomba
URL:https://conservatoriomanuelquiroga.gal/web/evento/250425-masterclass-coidado-e-mantemento-do-clarinete-con-cintia-lomba/
LOCATION:Auditorio CMUS Manuel Quiroga · Pontevedra
END:VEVENT
BEGIN:VEVENT
DTSTART;TZID=Europe/Brussels:20250425T190000
DTEND;TZID=Europe/Brussels:20250425T190000
DTSTAMP:20260422T032224
CREATED:20250424T205149Z
LAST-MODIFIED:20250424T205931Z
UID:4601-1745607600-1745607600@conservatoriomanuelquiroga.gal
SUMMARY:25/4/2025 | Concerto de alumnado do CSMVigo
DESCRIPTION:25/4/2025 | Concerto de alumnado do CSMVigo
URL:https://conservatoriomanuelquiroga.gal/web/evento/250425-concerto-do-alumnado-do-csmvigo/
LOCATION:Auditorio CMUS Manuel Quiroga · Pontevedra
END:VEVENT
END:VCALENDAR