BEGIN:VCALENDAR
VERSION:2.0
PRODID:-//CMUS Manuel Quiroga, Pontevedra - ECPv6.15.17//NONSGML v1.0//EN
CALSCALE:GREGORIAN
METHOD:PUBLISH
X-ORIGINAL-URL:https://conservatoriomanuelquiroga.gal/web
X-WR-CALDESC:Events for CMUS Manuel Quiroga, Pontevedra
REFRESH-INTERVAL;VALUE=DURATION:PT1H
X-Robots-Tag:noindex
X-PUBLISHED-TTL:PT1H
BEGIN:VTIMEZONE
TZID:Europe/Madrid
BEGIN:DAYLIGHT
TZOFFSETFROM:+0100
TZOFFSETTO:+0200
TZNAME:CEST
DTSTART:20240331T010000
END:DAYLIGHT
BEGIN:STANDARD
TZOFFSETFROM:+0200
TZOFFSETTO:+0100
TZNAME:CET
DTSTART:20241027T010000
END:STANDARD
BEGIN:DAYLIGHT
TZOFFSETFROM:+0100
TZOFFSETTO:+0200
TZNAME:CEST
DTSTART:20250330T010000
END:DAYLIGHT
BEGIN:STANDARD
TZOFFSETFROM:+0200
TZOFFSETTO:+0100
TZNAME:CET
DTSTART:20251026T010000
END:STANDARD
BEGIN:DAYLIGHT
TZOFFSETFROM:+0100
TZOFFSETTO:+0200
TZNAME:CEST
DTSTART:20260329T010000
END:DAYLIGHT
BEGIN:STANDARD
TZOFFSETFROM:+0200
TZOFFSETTO:+0100
TZNAME:CET
DTSTART:20261025T010000
END:STANDARD
END:VTIMEZONE
BEGIN:VEVENT
DTSTART;TZID=Europe/Madrid:20250405T190000
DTEND;TZID=Europe/Madrid:20250405T200000
DTSTAMP:20260422T032226
CREATED:20250331T132010Z
LAST-MODIFIED:20250331T132357Z
UID:4300-1743879600-1743883200@conservatoriomanuelquiroga.gal
SUMMARY:O Coro Infantil no Salón do Libro de Pontevedra
DESCRIPTION:5/4/2025 | O Coro Infantil no Salón do Libro de Pontevedra
URL:https://conservatoriomanuelquiroga.gal/web/evento/250405-o-coro-infantil-no-salon-do-libro-de-pontevedra/
LOCATION:Pazo da Cultura · Pontevedra
END:VEVENT
BEGIN:VEVENT
DTSTART;TZID=Europe/Madrid:20250405T190000
DTEND;TZID=Europe/Madrid:20250405T210000
DTSTAMP:20260422T032226
CREATED:20250402T130142Z
LAST-MODIFIED:20250402T132137Z
UID:4315-1743879600-1743886800@conservatoriomanuelquiroga.gal
SUMMARY:Concerto: Orquestra do CPM Juan Vázquez de Badaxoz e Orquestra do CMUS Manuel Quiroga
DESCRIPTION:5/4/2025 | Concerto: Orquestra do CPM Juan Vázquez de Badaxoz e Orquestra do CMUS Manuel Quiroga
URL:https://conservatoriomanuelquiroga.gal/web/evento/250405-concerto-orquestra-do-cpm-juan-vazquez-de-badaxoz-e-orquestra-do-cmus-manuel-quiroga/
LOCATION:Auditorio CMUS Manuel Quiroga · Pontevedra
END:VEVENT
END:VCALENDAR